BEGIN:VCALENDAR
VERSION:2.0
PRODID:spatie/icalendar-generator
NAME:Chancengerechtigkeit in der Berufswahl [Zebi 2022]
X-WR-CALNAME:Chancengerechtigkeit in der Berufswahl [Zebi 2022]
BEGIN:VTIMEZONE
TZID:Europe/Zurich
BEGIN:DAYLIGHT
DTSTART:20220327T020000
TZOFFSETFROM:+0100
TZOFFSETTO:+0200
END:DAYLIGHT
BEGIN:STANDARD
DTSTART:20221030T030000
TZOFFSETFROM:+0200
TZOFFSETTO:+0100
END:STANDARD
BEGIN:DAYLIGHT
DTSTART:20230326T020000
TZOFFSETFROM:+0100
TZOFFSETTO:+0200
END:DAYLIGHT
END:VTIMEZONE
BEGIN:VTIMEZONE
TZID:UTC
BEGIN:STANDARD
DTSTART:20250726T021751
TZOFFSETFROM:+0000
TZOFFSETTO:+0000
END:STANDARD
END:VTIMEZONE
BEGIN:VEVENT
UID:69e82fcf26171
DTSTAMP:20260422T021751Z
DTSTART;TZID=Europe/Zurich:20221104T140000
DTEND;TZID=Europe/Zurich:20221104T144500
SUMMARY:Chancengerechtigkeit in der Berufswahl [Zebi 2022]
DESCRIPTION:https://www.zebi.ch/de/e/chancengerechtigkeit-in-der-berufswahl
 .25576\n\nWie wähle ich meinen Beruf? Richte ich meine Berufswahl nach me
 inen eigenen Fähigkeiten und Interessen? Diese und weitere Fragen stehen 
 im Zentrum von kurzen Theaterszenen rund um die Themen Berufswahl und Chan
 cengerechtigkeit.
LOCATION:Halle 2\, Stand A2006
END:VEVENT
END:VCALENDAR