BEGIN:VCALENDAR
VERSION:2.0
PRODID:spatie/icalendar-generator
NAME:Karriere-Talk «Perspektiven schaffen» [Zebi 2024]
X-WR-CALNAME:Karriere-Talk «Perspektiven schaffen» [Zebi 2024]
BEGIN:VTIMEZONE
TZID:Europe/Zurich
BEGIN:DAYLIGHT
DTSTART:20240331T020000
TZOFFSETFROM:+0100
TZOFFSETTO:+0200
END:DAYLIGHT
BEGIN:STANDARD
DTSTART:20241027T030000
TZOFFSETFROM:+0200
TZOFFSETTO:+0100
END:STANDARD
BEGIN:DAYLIGHT
DTSTART:20250330T020000
TZOFFSETFROM:+0100
TZOFFSETTO:+0200
END:DAYLIGHT
END:VTIMEZONE
BEGIN:VTIMEZONE
TZID:UTC
BEGIN:STANDARD
DTSTART:20250725T081610
TZOFFSETFROM:+0000
TZOFFSETTO:+0000
END:STANDARD
END:VTIMEZONE
BEGIN:VEVENT
UID:69e7324a15594
DTSTAMP:20260421T081610Z
DTSTART;TZID=Europe/Zurich:20241109T110000
DTEND;TZID=Europe/Zurich:20241109T120000
SUMMARY:Karriere-Talk «Perspektiven schaffen» [Zebi 2024]
DESCRIPTION:https://www.zebi.ch/de/e/karriere-talk-perspektiven-schaffen.56
 990\n\nVon der Polymechanikerin EFZ zur Prozesstechnikerin HF oder vom Kau
 fmann EFZ via Bachelor in Betriebswirtschaft zum Milchtechnologen mit eidg
 . Fachausweis – eine «Aufsteigerin» sowie ein «Umsteiger» geben im 
 Talk spannende Einblicke in ihren beruflichen Werdegang.
LOCATION:Forum
END:VEVENT
END:VCALENDAR